View In:
ArcGIS JavaScript
ArcGIS Online Map Viewer
ArcGIS Earth
ArcMap
View Footprint In:
ArcGIS Online Map Viewer
Service Description: Crittenden_AR/Oblique_2026
Name: Crittenden_AR/Oblique_2026
Description:
Single Fused Map Cache: false
Extent:
XMin: 721558.7217676789
YMin: 3894628.8624752425
XMax: 771436.5166325897
YMax: 3929581.208723595
Spatial Reference: 32615
(32615)
VCSWkid(5773)
LatestVCSWkid(5773)
Initial Extent:
XMin: 721558.7217676789
YMin: 3894628.8624752425
XMax: 771436.5166325897
YMax: 3929581.208723595
Spatial Reference: 32615
(32615)
VCSWkid(5773)
LatestVCSWkid(5773)
Full Extent:
XMin: 721558.7217676789
YMin: 3894628.8624752425
XMax: 771436.5166325897
YMax: 3929581.208723595
Spatial Reference: 32615
(32615)
VCSWkid(5773)
LatestVCSWkid(5773)
Pixel Size X: 0.033082897856289234
Pixel Size Y: 0.03308289785628924
Band Count: 3
Pixel Type: U8
RasterFunction Infos: {"rasterFunctionInfos": [{
"name": "None",
"description": "Make a Raster or Raster Dataset into a Function Raster Dataset.",
"help": ""
}]}
Mensuration Capabilities: Basic,Base-Top Height,Base-Top Shadow Height,Top-Top Shadow Height,3D
Has Histograms: true
Has Colormap: false
Has Multi Dimensions : false
Rendering Rule:
Min Scale: 0
Max Scale: 0
Copyright Text:
Service Data Type: esriImageServiceDataTypeRGB
Min Values: 0, 0, 0
Max Values: 255, 252, 255
Mean Values: 115.76052304832731, 106.39895007032797, 84.94183125338377
Standard Deviation Values: 29.556842984580527, 24.35641769959099, 19.87848412245535
Object ID Field: OBJECTID
Fields:
-
OBJECTID
(
type: esriFieldTypeOID, alias: OBJECTID
)
-
Shape
(
type: esriFieldTypeGeometry, alias: Shape
)
-
Name
(
type: esriFieldTypeString, alias: Name, length: 200
)
-
MinPS
(
type: esriFieldTypeDouble, alias: MinPS
)
-
MaxPS
(
type: esriFieldTypeDouble, alias: MaxPS
)
-
LowPS
(
type: esriFieldTypeDouble, alias: LowPS
)
-
HighPS
(
type: esriFieldTypeDouble, alias: HighPS
)
-
Category
(
type: esriFieldTypeInteger, alias: Category
, Coded Values:
[0: Unknown]
, [1: Primary]
, [2: Overview]
, ...6 more...
)
-
Tag
(
type: esriFieldTypeString, alias: Tag, length: 100
)
-
GroupName
(
type: esriFieldTypeString, alias: GroupName, length: 100
)
-
ProductName
(
type: esriFieldTypeString, alias: ProductName, length: 100
)
-
CenterX
(
type: esriFieldTypeDouble, alias: CenterX
)
-
CenterY
(
type: esriFieldTypeDouble, alias: CenterY
)
-
ZOrder
(
type: esriFieldTypeInteger, alias: ZOrder
)
-
Shape_Length
(
type: esriFieldTypeDouble, alias: Shape_Length
)
-
Shape_Area
(
type: esriFieldTypeDouble, alias: Shape_Area
)
-
SensorAzimuth
(
type: esriFieldTypeDouble, alias: Sensor Azimuth
)
-
SensorElevation
(
type: esriFieldTypeDouble, alias: Sensor Elevation
)
-
CenterZ
(
type: esriFieldTypeDouble, alias: CenterZ
)
-
CameraID
(
type: esriFieldTypeString, alias: CameraID, length: 8000
)
-
PerspectiveX
(
type: esriFieldTypeDouble, alias: PerspectiveX
)
-
PerspectiveY
(
type: esriFieldTypeDouble, alias: PerspectiveY
)
-
PerspectiveZ
(
type: esriFieldTypeDouble, alias: PerspectiveZ
)
Default Mosaic Method: Northwest
Allowed Mosaic Methods: NorthWest,Center,LockRaster,ByAttribute,Nadir,Viewpoint,Seamline,None
SortField:
SortValue: null
Mosaic Operator: First
Default Compression Quality: 75
Default Resampling Method: Bilinear
Max Record Count: 1000
Max Image Height: 4100
Max Image Width: 15000
Max Download Image Count: 20
Max Mosaic Image Count: 20
Allow Raster Function: true
Allow Copy: true
Allow Analysis: true
Allow Compute TiePoints: false
Supports Statistics: true
Supports Advanced Queries: true
Use StandardizedQueries: true
Raster Type Infos:
Name: Raster Dataset
Description: Supports all ArcGIS Raster Datasets
Help:
Has Raster Attribute Table: false
Edit Fields Info: null
Ownership Based AccessControl For Rasters: null
Child Resources:
Info
Histograms
Statistics
Key Properties
Legend
Raster Function Infos
Supported Operations:
Export Image
Query
Identify
Measure
Compute Histograms
Compute Statistics Histograms
Get Samples
Compute Class Statistics
Query Boundary
Compute Pixel Location
Validate
Project